BEGIN:VCALENDAR
VERSION:2.0
PRODID:-//Sabre//Sabre VObject 4.5.8//EN
CALSCALE:GREGORIAN
BEGIN:VEVENT
UID:sabre-vobject-69594708-df87-414a-9c98-96a4c1984899
DTSTAMP:20260425T152757Z
SUMMARY:Kindergottesdienst Thalfingen
DESCRIPTION:https://pg-elchingen.de/kindergottesdienst-thalfingen_id45222
DTSTART;TZID=Europe/Berlin:20260621T104500
DTEND;TZID=Europe/Berlin:20260621T114500
LOCATION:Pfarrzentrum Laurentiussaal\, Junginger Straße 5\, 89275 Elchinge
 n
END:VEVENT
END:VCALENDAR
