BEGIN:VCALENDAR
VERSION:2.0
PRODID:-//Sabre//Sabre VObject 4.5.8//EN
CALSCALE:GREGORIAN
BEGIN:VEVENT
UID:sabre-vobject-084d10ed-8a4c-46a0-afbe-fd2d01ff6536
DTSTAMP:20260425T152834Z
SUMMARY:Pfarrgemeinderatssitzung Thalfingen
DESCRIPTION:https://pg-elchingen.de/pfarrgemeinderatssitzung-thalfingen_id4
 5219
DTSTART;TZID=Europe/Berlin:20260429T190000
DURATION:PT30M
LOCATION:Pfarrzentrum Edith-Stein-Zimmer\, Junginger Straße 5\, 89275 Elch
 ingen
END:VEVENT
END:VCALENDAR
