BEGIN:VCALENDAR
VERSION:2.0
PRODID:-//Sabre//Sabre VObject 4.5.8//EN
CALSCALE:GREGORIAN
BEGIN:VEVENT
UID:sabre-vobject-dbc4d573-8c44-4fc2-9bae-d609ce3d5cac
DTSTAMP:20260425T154346Z
SUMMARY:Frühstück nach dem Gottesdienst in Unterelchingen
DESCRIPTION:https://pg-elchingen.de/fruehstueck-nach-dem-gottesdienst-in-un
 terelchingen_id45217
DTSTART;TZID=Europe/Berlin:20260506T080000
DTEND;TZID=Europe/Berlin:20260506T100000
LOCATION:Haus St. Michael\, St. Michael-Weg 14\, 89275 Unterelchingen
END:VEVENT
END:VCALENDAR
