BEGIN:VCALENDAR
VERSION:2.0
PRODID:-//Sabre//Sabre VObject 4.5.8//EN
CALSCALE:GREGORIAN
BEGIN:VEVENT
UID:sabre-vobject-a1d8b24a-f429-4964-975e-de8fb6b06006
DTSTAMP:20260425T152940Z
SUMMARY:Maiandacht
DESCRIPTION:https://pg-elchingen.de/maiandacht_id45116
DTSTART;TZID=Europe/Berlin:20260503T190000
DURATION:PT30M
LOCATION:Kirche St. Michael Unterelchingen\, Hauptstraße 61\, 89275 Untere
 lchingen
END:VEVENT
END:VCALENDAR
