BEGIN:VCALENDAR
VERSION:2.0
PRODID:-//Sabre//Sabre VObject 4.5.8//EN
CALSCALE:GREGORIAN
BEGIN:VEVENT
UID:sabre-vobject-79ee848f-dedd-4e19-8e28-f09177f2416f
DTSTAMP:20260425T152834Z
SUMMARY:Gemeindegottesdienst
DESCRIPTION:https://pg-elchingen.de/gemeindegottesdienst_id45115
DTSTART;TZID=Europe/Berlin:20260503T104500
DURATION:PT30M
LOCATION:Kirche St. Michael Unterelchingen\, Hauptstraße 61\, 89275 Untere
 lchingen
END:VEVENT
END:VCALENDAR
