BEGIN:VCALENDAR
VERSION:2.0
PRODID:-//Sabre//Sabre VObject 4.5.8//EN
CALSCALE:GREGORIAN
BEGIN:VEVENT
UID:sabre-vobject-26df7117-464f-4d5c-9c9e-fd41f564be28
DTSTAMP:20260425T152940Z
SUMMARY:Maiandacht\, gestaltet von der KAB
DESCRIPTION:https://pg-elchingen.de/maiandacht-gestaltet-von-der-kab_id4511
 4
DTSTART;TZID=Europe/Berlin:20260503T190000
DURATION:PT30M
LOCATION:Kirche St. Laurentius Thalfingen\, Junginger Straße 9\, 89275 Tha
 lfingen
END:VEVENT
END:VCALENDAR
