BEGIN:VCALENDAR
VERSION:2.0
PRODID:-//Sabre//Sabre VObject 4.5.8//EN
CALSCALE:GREGORIAN
BEGIN:VEVENT
UID:sabre-vobject-32c3e202-4fd3-42a5-af70-63a7e98b1aaf
DTSTAMP:20260425T151917Z
SUMMARY:Vorabendmesse
DESCRIPTION:https://pg-elchingen.de/vorabendmesse_id45113
DTSTART;TZID=Europe/Berlin:20260502T190000
DURATION:PT30M
LOCATION:Kirche Christus unser Leben Thalfingen\, Junginger Straße 7\, 892
 75 Thalingen
END:VEVENT
END:VCALENDAR
