BEGIN:VCALENDAR
VERSION:2.0
PRODID:-//Sabre//Sabre VObject 4.5.8//EN
CALSCALE:GREGORIAN
BEGIN:VEVENT
UID:sabre-vobject-082aa06c-eb47-422d-88cf-a8b145352816
DTSTAMP:20260425T152840Z
SUMMARY:Festgottesdienst
DESCRIPTION:https://pg-elchingen.de/festgottesdienst_id45108
DTSTART;TZID=Europe/Berlin:20260501T100000
DURATION:PT30M
LOCATION:Klosterkirche St. Peter und Paul Oberelchingen\, Klosterhof 6\, 89
 275 Oberelchingen
END:VEVENT
END:VCALENDAR
