BEGIN:VCALENDAR
VERSION:2.0
PRODID:-//Sabre//Sabre VObject 4.5.8//EN
CALSCALE:GREGORIAN
BEGIN:VEVENT
UID:sabre-vobject-d49929f2-895f-492c-a9ce-e98b1fe6180a
DTSTAMP:20260425T152757Z
SUMMARY:Maiandacht\, mit den Erstkommunionskindern
DESCRIPTION:https://pg-elchingen.de/maiandacht-mit-den-erstkommunionskinder
 n_id45106
DTSTART;TZID=Europe/Berlin:20260510T190000
DURATION:PT30M
LOCATION:Kirche St. Laurentius Thalfingen\, Junginger Straße 9\, 89275 Tha
 lfingen
END:VEVENT
END:VCALENDAR
