BEGIN:VCALENDAR
VERSION:2.0
PRODID:-//Sabre//Sabre VObject 4.5.8//EN
CALSCALE:GREGORIAN
BEGIN:VEVENT
UID:sabre-vobject-c87aa93f-d1be-4f99-9731-31ae482600e5
DTSTAMP:20260425T154345Z
SUMMARY:Maiandacht\, musikalisch mitgestaltet von Andante
DESCRIPTION:https://pg-elchingen.de/maiandacht-musikalisch-mitgestaltet-von
 -andante_id45105
DTSTART;TZID=Europe/Berlin:20260510T190000
DURATION:PT30M
LOCATION:Klosterkirche St. Peter und Paul Oberelchingen\, Klosterhof 6\, 89
 275 Oberelchingen
END:VEVENT
END:VCALENDAR
