BEGIN:VCALENDAR
VERSION:2.0
PRODID:-//Sabre//Sabre VObject 4.5.8//EN
CALSCALE:GREGORIAN
BEGIN:VEVENT
UID:sabre-vobject-604fc672-473b-4bc8-8145-d950931a37b1
DTSTAMP:20260425T152808Z
SUMMARY:Gemeindegottesdienst
DESCRIPTION:https://pg-elchingen.de/gemeindegottesdienst_id45104
DTSTART;TZID=Europe/Berlin:20260510T091500
DURATION:PT30M
LOCATION:Klosterkirche St. Peter und Paul Oberelchingen\, Klosterhof 6\, 89
 275 Oberelchingen
END:VEVENT
END:VCALENDAR
