BEGIN:VCALENDAR
VERSION:2.0
PRODID:-//Sabre//Sabre VObject 4.5.8//EN
CALSCALE:GREGORIAN
BEGIN:VEVENT
UID:sabre-vobject-2a8ac271-bfb3-4caa-b996-084504472e63
DTSTAMP:20260425T151917Z
SUMMARY:Vorabendmesse
DESCRIPTION:https://pg-elchingen.de/vorabendmesse_id45103
DTSTART;TZID=Europe/Berlin:20260509T180000
DURATION:PT30M
LOCATION:Klosterkirche St. Peter und Paul Oberelchingen\, Klosterhof 6\, 89
 275 Oberelchingen
END:VEVENT
END:VCALENDAR
