BEGIN:VCALENDAR
VERSION:2.0
PRODID:-//Sabre//Sabre VObject 4.5.8//EN
CALSCALE:GREGORIAN
BEGIN:VEVENT
UID:sabre-vobject-02cab904-78f2-4a1e-a178-c0afe5054d5f
DTSTAMP:20260425T152808Z
SUMMARY:Trauerfeier auf dem Friedhof\, anschl. Urnenbeisetzung
DESCRIPTION:https://pg-elchingen.de/trauerfeier-auf-dem-friedhof-anschl-urn
 enbeisetzung_id45100
DTSTART;TZID=Europe/Berlin:20260430T100000
DURATION:PT30M
LOCATION:Kirche St. Laurentius Thalfingen\, Junginger Straße 9\, 89275 Tha
 lfingen
END:VEVENT
END:VCALENDAR
