BEGIN:VCALENDAR
VERSION:2.0
PRODID:-//Sabre//Sabre VObject 4.5.8//EN
CALSCALE:GREGORIAN
BEGIN:VEVENT
UID:sabre-vobject-836aa3e3-e892-4e48-a437-5a0cf62dd08a
DTSTAMP:20260425T152711Z
SUMMARY:Maiandacht
DESCRIPTION:https://pg-elchingen.de/maiandacht_id45099
DTSTART;TZID=Europe/Berlin:20260510T190000
DURATION:PT30M
LOCATION:Kirche St. Michael Unterelchingen\, Hauptstraße 61\, 89275 Untere
 lchingen
END:VEVENT
END:VCALENDAR
