BEGIN:VCALENDAR
VERSION:2.0
PRODID:-//Sabre//Sabre VObject 4.5.8//EN
CALSCALE:GREGORIAN
BEGIN:VEVENT
UID:sabre-vobject-efe0b4f6-4574-4039-94e9-8604f4154fa6
DTSTAMP:20260425T151918Z
SUMMARY:Vorabendmesse
DESCRIPTION:https://pg-elchingen.de/vorabendmesse_id45098
DTSTART;TZID=Europe/Berlin:20260509T190000
DURATION:PT30M
LOCATION:Kirche St. Michael Unterelchingen\, Hauptstraße 61\, 89275 Untere
 lchingen
END:VEVENT
END:VCALENDAR
