BEGIN:VCALENDAR
VERSION:2.0
PRODID:-//Sabre//Sabre VObject 4.5.8//EN
CALSCALE:GREGORIAN
BEGIN:VEVENT
UID:sabre-vobject-65697fa7-8692-456c-86c8-17b6ae5ffa2c
DTSTAMP:20260425T152840Z
SUMMARY:Gemeindegottesdienst
DESCRIPTION:https://pg-elchingen.de/gemeindegottesdienst_id45097
DTSTART;TZID=Europe/Berlin:20260510T104500
DURATION:PT30M
LOCATION:Kirche Christus unser Leben Thalfingen\, Junginger Straße 7\, 892
 75 Thalingen
END:VEVENT
END:VCALENDAR
