BEGIN:VCALENDAR
VERSION:2.0
PRODID:-//Sabre//Sabre VObject 4.5.8//EN
CALSCALE:GREGORIAN
BEGIN:VEVENT
UID:sabre-vobject-e5f6f367-9ea0-4e39-a161-62be29fe9540
DTSTAMP:20260425T152711Z
SUMMARY:Heilige Messe
DESCRIPTION:https://pg-elchingen.de/heilige-messe_id45096
DTSTART;TZID=Europe/Berlin:20260508T090000
DURATION:PT30M
LOCATION:Kirche St. Laurentius Thalfingen\, Junginger Straße 9\, 89275 Tha
 lfingen
END:VEVENT
END:VCALENDAR
