BEGIN:VCALENDAR
VERSION:2.0
PRODID:-//Sabre//Sabre VObject 4.5.8//EN
CALSCALE:GREGORIAN
BEGIN:VEVENT
UID:sabre-vobject-c5a44f3d-cfc4-4380-96c4-418c85052423
DTSTAMP:20260421T143458Z
SUMMARY:Pfarrgemeinderatssitzung im Edith-Stein-Zimmer
DESCRIPTION:https://pg-elchingen.de/pfarrgemeinderatssitzung-im-edith-stein
 -zimmer_id44395
DTSTART;TZID=Europe/Berlin:20260429T190000
DURATION:PT30M
LOCATION:Kirche St. Laurentius Thalfingen\, Junginger Straße 9\, 89275 Tha
 lfingen
END:VEVENT
END:VCALENDAR
