BEGIN:VCALENDAR
VERSION:2.0
PRODID:-//Sabre//Sabre VObject 4.5.8//EN
CALSCALE:GREGORIAN
BEGIN:VEVENT
UID:sabre-vobject-a962d4a6-ce30-411e-83ad-b4f6f3882a8c
DTSTAMP:20260421T143141Z
SUMMARY:Rosenkranzgebet
DESCRIPTION:https://pg-elchingen.de/rosenkranzgebet_id44389
DTSTART;TZID=Europe/Berlin:20260429T173000
DURATION:PT30M
LOCATION:Kirche Christus unser Leben Thalfingen\, Junginger Straße 7\, 892
 75 Thalingen
END:VEVENT
END:VCALENDAR
