BEGIN:VCALENDAR
VERSION:2.0
PRODID:-//Sabre//Sabre VObject 4.5.8//EN
CALSCALE:GREGORIAN
BEGIN:VEVENT
UID:sabre-vobject-93a8bd71-d9c8-42ae-8242-968ff7629f17
DTSTAMP:20260421T140921Z
SUMMARY:Vorabendmesse
DESCRIPTION:https://pg-elchingen.de/vorabendmesse_id44388
DTSTART;TZID=Europe/Berlin:20260502T180000
DURATION:PT30M
LOCATION:Klosterkirche St. Peter und Paul Oberelchingen\, Klosterhof 6\, 89
 275 Oberelchingen
END:VEVENT
END:VCALENDAR
