BEGIN:VCALENDAR
VERSION:2.0
PRODID:-//Sabre//Sabre VObject 4.5.8//EN
CALSCALE:GREGORIAN
BEGIN:VEVENT
UID:sabre-vobject-30e13ca8-2001-441a-8d7a-f4808999c698
DTSTAMP:20260421T143418Z
SUMMARY:Maiandacht\, musikalisch mitgestaltet vom Singkreis
DESCRIPTION:https://pg-elchingen.de/maiandacht-musikalisch-mitgestaltet-vom
 -singkreis_id44387
DTSTART;TZID=Europe/Berlin:20260503T190000
DURATION:PT30M
LOCATION:Klosterkirche St. Peter und Paul Oberelchingen\, Klosterhof 6\, 89
 275 Oberelchingen
END:VEVENT
END:VCALENDAR
