BEGIN:VCALENDAR
VERSION:2.0
PRODID:-//Sabre//Sabre VObject 4.5.8//EN
CALSCALE:GREGORIAN
BEGIN:VEVENT
UID:sabre-vobject-24a6afd0-d256-4032-940b-2a66c6996b8a
DTSTAMP:20260421T143232Z
SUMMARY:Maiandacht\, musikalisch mitgestaltet vom Kirchenchor
DESCRIPTION:https://pg-elchingen.de/maiandacht-musikalisch-mitgestaltet-vom
 -kirchenchor_id44385
DTSTART;TZID=Europe/Berlin:20260501T190000
DURATION:PT30M
LOCATION:Klosterkirche St. Peter und Paul Oberelchingen\, Klosterhof 6\, 89
 275 Oberelchingen
END:VEVENT
END:VCALENDAR
