BEGIN:VCALENDAR
VERSION:2.0
PRODID:-//Sabre//Sabre VObject 4.5.8//EN
CALSCALE:GREGORIAN
BEGIN:VEVENT
UID:sabre-vobject-01473bd5-8479-4870-8a7d-f7ee785d5311
DTSTAMP:20260421T143313Z
SUMMARY:Heilige Messe
DESCRIPTION:https://pg-elchingen.de/heilige-messe_id44383
DTSTART;TZID=Europe/Berlin:20260428T180000
DURATION:PT30M
LOCATION:Klosterkirche St. Peter und Paul Oberelchingen\, Klosterhof 6\, 89
 275 Oberelchingen
END:VEVENT
END:VCALENDAR
