BEGIN:VCALENDAR
VERSION:2.0
PRODID:-//Sabre//Sabre VObject 4.5.8//EN
CALSCALE:GREGORIAN
BEGIN:VEVENT
UID:sabre-vobject-c7b6b349-b34d-4a33-8381-9716bcd91fb9
DTSTAMP:20260421T143320Z
SUMMARY:Taufe
DESCRIPTION:https://pg-elchingen.de/taufe_id44382
DTSTART;TZID=Europe/Berlin:20260503T103000
DURATION:PT30M
LOCATION:Klosterkirche St. Peter und Paul Oberelchingen\, Klosterhof 6\, 89
 275 Oberelchingen
END:VEVENT
END:VCALENDAR
