BEGIN:VCALENDAR
VERSION:2.0
PRODID:-//Sabre//Sabre VObject 4.5.8//EN
CALSCALE:GREGORIAN
BEGIN:VEVENT
UID:sabre-vobject-203102b3-32e2-4b0c-88a2-66c11282267f
DTSTAMP:20260421T143313Z
SUMMARY:Festgottesdienst zur Erstkommunion\, musikalisch mitgestaltet vom S
 ingkreis
DESCRIPTION:https://pg-elchingen.de/festgottesdienst-zur-erstkommunion-musi
 kalisch-mitgestaltet-vom-singkreis_id44381
DTSTART;TZID=Europe/Berlin:20260426T104500
DURATION:PT30M
LOCATION:Kirche Christus unser Leben Thalfingen\, Junginger Straße 7\, 892
 75 Thalingen
END:VEVENT
END:VCALENDAR
