BEGIN:VCALENDAR
VERSION:2.0
PRODID:-//Sabre//Sabre VObject 4.5.8//EN
CALSCALE:GREGORIAN
BEGIN:VEVENT
UID:sabre-vobject-078bf2c0-a3d0-442d-a15c-cfb30a4007e1
DTSTAMP:20260421T143111Z
SUMMARY:Heilige Messe
DESCRIPTION:https://pg-elchingen.de/heilige-messe_id44380
DTSTART;TZID=Europe/Berlin:20260424T090000
DURATION:PT30M
LOCATION:Kirche St. Laurentius Thalfingen\, Junginger Straße 9\, 89275 Tha
 lfingen
END:VEVENT
END:VCALENDAR
