BEGIN:VCALENDAR
VERSION:2.0
PRODID:-//Sabre//Sabre VObject 4.5.8//EN
CALSCALE:GREGORIAN
BEGIN:VEVENT
UID:sabre-vobject-bb5aa29d-3bab-41da-aee6-6115d6c808c3
DTSTAMP:20260421T143326Z
SUMMARY:Gemeindegottesdienst
DESCRIPTION:https://pg-elchingen.de/gemeindegottesdienst_id44378
DTSTART;TZID=Europe/Berlin:20260426T091500
DURATION:PT30M
LOCATION:Klosterkirche St. Peter und Paul Oberelchingen\, Klosterhof 6\, 89
 275 Oberelchingen
END:VEVENT
END:VCALENDAR
