BEGIN:VCALENDAR
VERSION:2.0
PRODID:-//Sabre//Sabre VObject 4.5.8//EN
CALSCALE:GREGORIAN
BEGIN:VEVENT
UID:sabre-vobject-b6496177-fcbb-4333-be4b-5b84cb317c47
DTSTAMP:20260421T143417Z
SUMMARY:Vorabendmesse
DESCRIPTION:https://pg-elchingen.de/vorabendmesse_id44377
DTSTART;TZID=Europe/Berlin:20260425T180000
DURATION:PT30M
LOCATION:Klosterkirche St. Peter und Paul Oberelchingen\, Klosterhof 6\, 89
 275 Oberelchingen
END:VEVENT
END:VCALENDAR
