BEGIN:VCALENDAR
VERSION:2.0
PRODID:-//Sabre//Sabre VObject 4.5.8//EN
CALSCALE:GREGORIAN
BEGIN:VEVENT
UID:sabre-vobject-47d2bf3a-3d80-4069-816b-0aa948dd2a46
DTSTAMP:20260421T140920Z
SUMMARY:Taufe
DESCRIPTION:https://pg-elchingen.de/taufe_id44376
DTSTART;TZID=Europe/Berlin:20260426T114500
DURATION:PT30M
LOCATION:Kirche St. Michael Unterelchingen\, Hauptstraße 61\, 89275 Untere
 lchingen
END:VEVENT
END:VCALENDAR
