BEGIN:VCALENDAR
VERSION:2.0
PRODID:-//Sabre//Sabre VObject 4.5.8//EN
CALSCALE:GREGORIAN
BEGIN:VEVENT
UID:sabre-vobject-84f8ac6c-975e-4518-8f7e-6118f78ae5d1
DTSTAMP:20260421T143141Z
SUMMARY:Einweihung und Segnung des neu erbauten Feuerwehrgerätehauses Unte
 relchingen mit Fahrzeugübergabe und Segnung des neuen LF 20
DESCRIPTION:https://pg-elchingen.de/einweihung-und-segnung-des-neu-erbauten
 -feuerwehrgeraetehauses-unterelchingen-mit-fahrzeuguebergabe-und-segnung-d
 es-neuen-lf-20_id44374
DTSTART;TZID=Europe/Berlin:20260424T180000
DURATION:PT30M
LOCATION:Kirche St. Michael Unterelchingen\, Hauptstraße 61\, 89275 Untere
 lchingen
END:VEVENT
END:VCALENDAR
