BEGIN:VCALENDAR
VERSION:2.0
PRODID:-//Sabre//Sabre VObject 4.5.8//EN
CALSCALE:GREGORIAN
BEGIN:VEVENT
UID:sabre-vobject-c6457505-2234-4913-bf39-02fdf3c1b148
DTSTAMP:20260421T143053Z
SUMMARY:Heilige Messe zum Seniorennachmittag
DESCRIPTION:https://pg-elchingen.de/heilige-messe-zum-seniorennachmittag_id
 44373
DTSTART;TZID=Europe/Berlin:20260423T140000
DURATION:PT30M
LOCATION:Kirche St. Michael Unterelchingen\, Hauptstraße 61\, 89275 Untere
 lchingen
END:VEVENT
END:VCALENDAR
