BEGIN:VCALENDAR
VERSION:2.0
PRODID:-//Sabre//Sabre VObject 4.5.8//EN
CALSCALE:GREGORIAN
BEGIN:VEVENT
UID:sabre-vobject-aaa7fe02-5f26-4646-acc0-6063592133f7
DTSTAMP:20260421T143053Z
SUMMARY:Seniorennachmittag Unterelchingen
DESCRIPTION:https://pg-elchingen.de/seniorennachmittag-unterelchingen_id443
 42
DTSTART;TZID=Europe/Berlin:20260423T140000
DTEND;TZID=Europe/Berlin:20260423T170000
LOCATION:Haus St. Michael\, St. Michael-Weg 14\, 89275 Unterelchingen
END:VEVENT
END:VCALENDAR
